BEGIN:VCALENDAR
VERSION:2.0
PRODID:-//Mairie Mercurol-Veaunes (Drôme - 26) - ECPv4.3.5//NONSGML v1.0//EN
CALSCALE:GREGORIAN
METHOD:PUBLISH
X-WR-CALNAME:Mairie Mercurol-Veaunes (Drôme - 26)
X-ORIGINAL-URL:https://www.mercurol-veaunes.fr
X-WR-CALDESC:Events for Mairie Mercurol-Veaunes (Drôme - 26)
BEGIN:VEVENT
DTSTART;TZID=UTC+1:20240315T140000
DTEND;TZID=UTC+1:20240315T200000
DTSTAMP:20260421T085924
CREATED:20240222T133919Z
LAST-MODIFIED:20240229T123218Z
UID:6485-1710511200-1710532800@www.mercurol-veaunes.fr
SUMMARY:Un job en local
DESCRIPTION:
URL:https://www.mercurol-veaunes.fr/evenement/un-job-en-local/
LOCATION:1242 avenue général de Gaulle\, Saint-Donat\, 26260\, France
ATTACH;FMTTYPE=application/pdf:https://www.mercurol-veaunes.fr/wp-content/uploads/2024/02/journee-pr-emploi-4-1.pdf
END:VEVENT
END:VCALENDAR