BEGIN:VCALENDAR
VERSION:2.0
PRODID:-//Mairie Mercurol-Veaunes (Drôme - 26) - ECPv4.3.5//NONSGML v1.0//EN
CALSCALE:GREGORIAN
METHOD:PUBLISH
X-WR-CALNAME:Mairie Mercurol-Veaunes (Drôme - 26)
X-ORIGINAL-URL:https://www.mercurol-veaunes.fr
X-WR-CALDESC:Events for Mairie Mercurol-Veaunes (Drôme - 26)
BEGIN:VEVENT
DTSTART;TZID=UTC+1:20240120T190000
DTEND;TZID=UTC+1:20240120T220000
DTSTAMP:20260421T144217
CREATED:20240111T104930Z
LAST-MODIFIED:20240111T104930Z
UID:6309-1705777200-1705788000@www.mercurol-veaunes.fr
SUMMARY:Repas conté - Festival du conte
DESCRIPTION:
URL:https://www.mercurol-veaunes.fr/evenement/repas-conte-festival-du-conte/
LOCATION:10 Rue des Charmes\, Veaunes\, Mercurol-Veaunes\, 26600\, France
ATTACH;FMTTYPE=image/png:https://www.mercurol-veaunes.fr/wp-content/uploads/2024/01/SAMEDI-20-JANVIER-OLIVIER-PONSOT-003.png
ORGANIZER;CN="Familles%20Rurales%20de%20Chanos-Curson":MAILTO:evs.chanoscurson@gmail.com
END:VEVENT
END:VCALENDAR