BEGIN:VCALENDAR
VERSION:2.0
PRODID:-//Mairie Mercurol-Veaunes (Drôme - 26) - ECPv4.3.5//NONSGML v1.0//EN
CALSCALE:GREGORIAN
METHOD:PUBLISH
X-WR-CALNAME:Mairie Mercurol-Veaunes (Drôme - 26)
X-ORIGINAL-URL:https://www.mercurol-veaunes.fr
X-WR-CALDESC:Events for Mairie Mercurol-Veaunes (Drôme - 26)
BEGIN:VEVENT
DTSTART;TZID=UTC+1:20260703T090000
DTEND;TZID=UTC+1:20260703T120000
DTSTAMP:20260419T131043
CREATED:20260413T140224Z
LAST-MODIFIED:20260413T140224Z
UID:8465-1783069200-1783080000@www.mercurol-veaunes.fr
SUMMARY:Permanence Urbanisme
DESCRIPTION:Vous avez un projet de construction ?\nAfin de vous accompagner\, ARCHE Agglo assure des permanences gratuites et ouvertes à tous concernant les autorisations d’urbanisme (permis de construire\, déclaration préalable…)\n\n \n\nSur RDV ( à prendre lors des permanences téléphoniques du Mardi et Jeudi (8h30-12h et 13h30-17h)\n\nTél : 04 26 78 57 85
URL:https://www.mercurol-veaunes.fr/evenement/permanence-urbanisme-8/
LOCATION:1 place de la République\, Mercurol-Veaunes\, 26600
ATTACH;FMTTYPE=application/pdf:https://www.mercurol-veaunes.fr/wp-content/uploads/2026/04/PERMANENCES-URBANISME_Avril_Mai_Juin_2026.pdf
END:VEVENT
END:VCALENDAR