BEGIN:VCALENDAR
VERSION:2.0
PRODID:-//Mairie Mercurol-Veaunes (Drôme - 26) - ECPv4.3.5//NONSGML v1.0//EN
CALSCALE:GREGORIAN
METHOD:PUBLISH
X-WR-CALNAME:Mairie Mercurol-Veaunes (Drôme - 26)
X-ORIGINAL-URL:https://www.mercurol-veaunes.fr
X-WR-CALDESC:Events for Mairie Mercurol-Veaunes (Drôme - 26)
BEGIN:VEVENT
DTSTART;TZID=UTC+1:20240211T090000
DTEND;TZID=UTC+1:20240211T120000
DTSTAMP:20260421T085553
CREATED:20240129T103757Z
LAST-MODIFIED:20240201T085326Z
UID:6412-1707642000-1707652800@www.mercurol-veaunes.fr
SUMMARY:Matinée huîtres
DESCRIPTION:
URL:https://www.mercurol-veaunes.fr/evenement/matinee-huitres-2/
LOCATION:40\, chemin des Littes\, Mercurol\, 26600\, France
ATTACH;FMTTYPE=image/jpeg:https://www.mercurol-veaunes.fr/wp-content/uploads/2024/01/Matinée-huitres.jpg
ORGANIZER;CN="Basket%20Club%20Mercurol%20Chanos-Curson":MAILTO:presidencebcmcc@gmail.com
END:VEVENT
END:VCALENDAR