BEGIN:VCALENDAR
VERSION:2.0
PRODID:-//Mairie Mercurol-Veaunes (Drôme - 26) - ECPv4.3.5//NONSGML v1.0//EN
CALSCALE:GREGORIAN
METHOD:PUBLISH
X-WR-CALNAME:Mairie Mercurol-Veaunes (Drôme - 26)
X-ORIGINAL-URL:https://www.mercurol-veaunes.fr
X-WR-CALDESC:Events for Mairie Mercurol-Veaunes (Drôme - 26)
BEGIN:VEVENT
DTSTART;VALUE=DATE:20260613
DTEND;VALUE=DATE:20260613
DTSTAMP:20260419T131033
CREATED:20251020T083915Z
LAST-MODIFIED:20251020T095248Z
UID:7939-1781308800-1781395199@www.mercurol-veaunes.fr
SUMMARY:Le bouclier de Naël
DESCRIPTION:
URL:https://www.mercurol-veaunes.fr/evenement/le-bouclier-de-nael-2/
LOCATION:Allée Pierre de Coubertin\, TOURNON SUR RHONE\, 07300
ATTACH;FMTTYPE=image/jpeg:https://www.mercurol-veaunes.fr/wp-content/uploads/2025/10/bouclier-de-Nael.jpg
ORGANIZER;CN="Le%20Regard%20de%20Na%C3%ABl":MAILTO:leregarddenael@gmail.com
END:VEVENT
END:VCALENDAR