BEGIN:VCALENDAR
VERSION:2.0
PRODID:-//Mairie Mercurol-Veaunes (Drôme - 26) - ECPv4.3.5//NONSGML v1.0//EN
CALSCALE:GREGORIAN
METHOD:PUBLISH
X-WR-CALNAME:Mairie Mercurol-Veaunes (Drôme - 26)
X-ORIGINAL-URL:https://www.mercurol-veaunes.fr
X-WR-CALDESC:Events for Mairie Mercurol-Veaunes (Drôme - 26)
BEGIN:VEVENT
DTSTART;TZID=UTC+1:20240119T080000
DTEND;TZID=UTC+1:20240127T170000
DTSTAMP:20260421T131604
CREATED:20240109T132358Z
LAST-MODIFIED:20240109T143034Z
UID:6299-1705651200-1706374800@www.mercurol-veaunes.fr
SUMMARY:Festival du conte des collines de l'Hermitage
DESCRIPTION:Festival du Conte\, 10 ème édition ! \n\nUn festival pour mettre à l'honneur les arts de la parole et de l'oralité\, le spectacle vivant et les artistes régionaux\, les loisirs culturels dans nos villages\, les imaginaires et les histoires de nature\, d'amour\, d'amitié et bien d'autres merveilles encore !\n\nUn festival pour les tout petits comme pour les plus grands !\n\n \n\nDans notre commune :\n\nSamedi 20 Janvier à 19h : Repas conté "Fantaisies" : Olivier PONSOT (Salle des fêtes de Veaunes )\n\nSamedi 27 Janvier à 10h : Spectacle petite enfance suivi d'un atelier manuel "Maman Terre" Céline Acquaviva (réservé aux enfants de 3 à 6 ans et leurs parents)  (Bibliothèque)\n\n \n\nPour réserver dès maintenant :\n\n09 71 45 40 58\n\nevs.chanoscurson@gmail.com\n\n \n\n 
URL:https://www.mercurol-veaunes.fr/evenement/festival-du-conte-des-collines-de-lhermitage/
ATTACH;FMTTYPE=image/jpeg:https://www.mercurol-veaunes.fr/wp-content/uploads/2024/01/Festival-du-conte1.jpg
ORGANIZER;CN="Familles%20Rurales%20de%20Chanos-Curson":MAILTO:evs.chanoscurson@gmail.com
END:VEVENT
END:VCALENDAR