BEGIN:VCALENDAR
VERSION:2.0
PRODID:-//Mairie Mercurol-Veaunes (Drôme - 26) - ECPv4.3.5//NONSGML v1.0//EN
CALSCALE:GREGORIAN
METHOD:PUBLISH
X-WR-CALNAME:Mairie Mercurol-Veaunes (Drôme - 26)
X-ORIGINAL-URL:https://www.mercurol-veaunes.fr
X-WR-CALDESC:Events for Mairie Mercurol-Veaunes (Drôme - 26)
BEGIN:VEVENT
DTSTART;TZID=UTC+1:20240328T080000
DTEND;TZID=UTC+1:20240328T160000
DTSTAMP:20260423T101557
CREATED:20240326T100258Z
LAST-MODIFIED:20240326T100258Z
UID:6623-1711612800-1711641600@www.mercurol-veaunes.fr
SUMMARY:Exercice de déclenchement du Plan communal de sauvegarde
DESCRIPTION:Ce jeudi 28 mars\, nous participons à un exercice intercommunal de gestion de crise (inondation)\, organisé par ARCHE Agglo en collaboration avec l’IRMa.\n\nLes gendarmes\, pompiers et services de l’Etat seront présents sur la commune.\n\n \n\nPas d’inquiétude\, c’est un exercice !
URL:https://www.mercurol-veaunes.fr/evenement/exercice-de-declenchement-du-plan-communal-de-sauvegarde/
ATTACH;FMTTYPE=image/jpeg:https://www.mercurol-veaunes.fr/wp-content/uploads/2024/03/PCS.jpg
ORGANIZER;CN="Mairie%20de%20Mercurol-Veaunes":MAILTO:mairie@mercurol-veaunes.fr
END:VEVENT
END:VCALENDAR