BEGIN:VCALENDAR
VERSION:2.0
PRODID:-//Mairie Mercurol-Veaunes (Drôme - 26) - ECPv4.3.5//NONSGML v1.0//EN
CALSCALE:GREGORIAN
METHOD:PUBLISH
X-WR-CALNAME:Mairie Mercurol-Veaunes (Drôme - 26)
X-ORIGINAL-URL:https://www.mercurol-veaunes.fr
X-WR-CALDESC:Events for Mairie Mercurol-Veaunes (Drôme - 26)
BEGIN:VEVENT
DTSTART;TZID=UTC+1:20240116T083000
DTEND;TZID=UTC+1:20240116T143000
DTSTAMP:20260421T101338
CREATED:20231211T102815Z
LAST-MODIFIED:20231211T104449Z
UID:6274-1705393800-1705415400@www.mercurol-veaunes.fr
SUMMARY:Coupure de courant
DESCRIPTION:Mardi 16 janvier 2024 de 08h30 à 14h30\n\nQuartiers ou lieux-dits :\n\n105 au 107 QUARTIER BELLEVUE\n\n30 impasse DE TOUS LES VENTS\n\n75\, 85\, 95 impasse DE LA COLLINE\n\n585\, 595\, 635\, 725 au 729\, 745\, N2 ROUTE DE BELLEVUE\n\n \n\nCoupure de courant du mardi 16 janvier 2024\n\nPour suivre l’évolution de la coupure et connaître l’heure approximative de rétablissement du courant\, vous pouvez consulter notre site enedis.fr/panne-et-interruption. Toutefois l’alimentation pourra être rétablie à tout moment avant la fin de la plage indiquée.\n\nLe jour des travaux\, si vous avez besoin d’information complémentaire\, vous pourrez nous joindre au numéro de téléphone de dépannage 09 72 67 50 + n° de votre département (appel non surtaxé).
URL:https://www.mercurol-veaunes.fr/evenement/coupure-de-courant-19/
ATTACH;FMTTYPE=image/jpeg:https://www.mercurol-veaunes.fr/wp-content/uploads/2022/05/ENEDIS_Logotype_FondClair_CMJN_EXE-scaled.jpg
END:VEVENT
END:VCALENDAR