BEGIN:VCALENDAR
VERSION:2.0
PRODID:-//Mairie Mercurol-Veaunes (Drôme - 26) - ECPv4.3.5//NONSGML v1.0//EN
CALSCALE:GREGORIAN
METHOD:PUBLISH
X-WR-CALNAME:Mairie Mercurol-Veaunes (Drôme - 26)
X-ORIGINAL-URL:https://www.mercurol-veaunes.fr
X-WR-CALDESC:Events for Mairie Mercurol-Veaunes (Drôme - 26)
BEGIN:VEVENT
DTSTART;TZID=UTC+1:20240620T203000
DTEND;TZID=UTC+1:20240620T220000
DTSTAMP:20260421T083128
CREATED:20240506T120812Z
LAST-MODIFIED:20240506T131953Z
UID:6725-1718915400-1718920800@www.mercurol-veaunes.fr
SUMMARY:Concert de Gospel
DESCRIPTION:Le Lions Club Tain Tournon organise un concert de Gospel avec l’Orchestre de Chambre de Lyon\, au profit de la recherche contre la maladie de Charcot\, l’ARSLA.\n\nLes billets sont en vente auprès des offices de tourisme de Tain et Tournon et auprès des membres du Lions Club Tain Tournon.\n\nOuverture des portes à 19h - Spectacle à 20h30
URL:https://www.mercurol-veaunes.fr/evenement/concert-de-gospel/
LOCATION:940 route des Alpes\, Mercurol\, 26600\, France
ATTACH;FMTTYPE=image/jpeg:https://www.mercurol-veaunes.fr/wp-content/uploads/2024/05/concert-SLA.jpg
ORGANIZER;CN="Lions%20Club%20Tain%20Tournon":MAILTO: lionsclubtaintournon103cs@gmail.com
END:VEVENT
END:VCALENDAR