BEGIN:VCALENDAR
VERSION:2.0
PRODID:-//Mairie Mercurol-Veaunes (Drôme - 26) - ECPv4.3.5//NONSGML v1.0//EN
CALSCALE:GREGORIAN
METHOD:PUBLISH
X-WR-CALNAME:Mairie Mercurol-Veaunes (Drôme - 26)
X-ORIGINAL-URL:https://www.mercurol-veaunes.fr
X-WR-CALDESC:Events for Mairie Mercurol-Veaunes (Drôme - 26)
BEGIN:VEVENT
DTSTART;TZID=UTC+1:20230922T183000
DTEND;TZID=UTC+1:20230922T210000
DTSTAMP:20260421T085451
CREATED:20230825T071556Z
LAST-MODIFIED:20230825T074909Z
UID:6040-1695407400-1695416400@www.mercurol-veaunes.fr
SUMMARY:Assemblée Générale de Farandole
DESCRIPTION:RDV à la Salle Hermitage le Vendredi 22 Septembre 2023 à 18H30
URL:https://www.mercurol-veaunes.fr/evenement/assemblee-generale-de-farandole/
LOCATION:Chemin de la Tour\, Mercurol-Veaunes\, 26600
ATTACH;FMTTYPE=image/png:https://www.mercurol-veaunes.fr/wp-content/uploads/2023/08/Flyer-AG-22.09.23.png
ORGANIZER;CN="Association%20Farandole%20Sou%20des%20%C3%A9coles":MAILTO:contact@farandole-mercurol.fr
END:VEVENT
END:VCALENDAR